BEGIN:VCALENDAR
VERSION:2.0
PRODID:-//Helotes Chamber of Commerce - ECPv6.13.2.1//NONSGML v1.0//EN
CALSCALE:GREGORIAN
METHOD:PUBLISH
X-ORIGINAL-URL:https://heloteschamber.com
X-WR-CALDESC:Events for Helotes Chamber of Commerce
REFRESH-INTERVAL;VALUE=DURATION:PT1H
X-Robots-Tag:noindex
X-PUBLISHED-TTL:PT1H
BEGIN:VTIMEZONE
TZID:America/Chicago
BEGIN:DAYLIGHT
TZOFFSETFROM:-0600
TZOFFSETTO:-0500
TZNAME:CDT
DTSTART:20240310T080000
END:DAYLIGHT
BEGIN:STANDARD
TZOFFSETFROM:-0500
TZOFFSETTO:-0600
TZNAME:CST
DTSTART:20241103T070000
END:STANDARD
BEGIN:DAYLIGHT
TZOFFSETFROM:-0600
TZOFFSETTO:-0500
TZNAME:CDT
DTSTART:20250309T080000
END:DAYLIGHT
BEGIN:STANDARD
TZOFFSETFROM:-0500
TZOFFSETTO:-0600
TZNAME:CST
DTSTART:20251102T070000
END:STANDARD
END:VTIMEZONE
BEGIN:VEVENT
DTSTART;VALUE=DATE:20251004
DTEND;VALUE=DATE:20251005
DTSTAMP:20260421T072454
CREATED:20250904T182009Z
LAST-MODIFIED:20250904T182009Z
UID:20256-1759536000-1759622399@heloteschamber.com
SUMMARY:Strength & Conditioning Challenge
DESCRIPTION:Join our $79 Challenge!\n\nSee and feel results in 28 days\nBuild total-body strength with unlimited Camps\nBreak personal records\nComplimentary Childwatch\, our version of free childcare\nUnlimited Focus Meetings & nutritional support\nExpert personal training in a group setting
URL:https://heloteschamber.com/event/strength-conditioning-challenge/2025-10-04/
LOCATION:Burn Boot Camp\, 12540 Bandera Rd\, Helotes\, TX\, 78023\, United States
CATEGORIES:Community Events
ATTACH;FMTTYPE=image/jpeg:https://heloteschamber.com/wp-content/uploads/2025/09/Fall-Challenge-image.jpg
END:VEVENT
BEGIN:VEVENT
DTSTART;VALUE=DATE:20251003
DTEND;VALUE=DATE:20251004
DTSTAMP:20260421T072454
CREATED:20250904T182009Z
LAST-MODIFIED:20250904T182009Z
UID:20255-1759449600-1759535999@heloteschamber.com
SUMMARY:Strength & Conditioning Challenge
DESCRIPTION:Join our $79 Challenge!\n\nSee and feel results in 28 days\nBuild total-body strength with unlimited Camps\nBreak personal records\nComplimentary Childwatch\, our version of free childcare\nUnlimited Focus Meetings & nutritional support\nExpert personal training in a group setting
URL:https://heloteschamber.com/event/strength-conditioning-challenge/2025-10-03/
LOCATION:Burn Boot Camp\, 12540 Bandera Rd\, Helotes\, TX\, 78023\, United States
CATEGORIES:Community Events
ATTACH;FMTTYPE=image/jpeg:https://heloteschamber.com/wp-content/uploads/2025/09/Fall-Challenge-image.jpg
END:VEVENT
BEGIN:VEVENT
DTSTART;VALUE=DATE:20251002
DTEND;VALUE=DATE:20251003
DTSTAMP:20260421T072454
CREATED:20250904T182009Z
LAST-MODIFIED:20250904T182009Z
UID:20254-1759363200-1759449599@heloteschamber.com
SUMMARY:Strength & Conditioning Challenge
DESCRIPTION:Join our $79 Challenge!\n\nSee and feel results in 28 days\nBuild total-body strength with unlimited Camps\nBreak personal records\nComplimentary Childwatch\, our version of free childcare\nUnlimited Focus Meetings & nutritional support\nExpert personal training in a group setting
URL:https://heloteschamber.com/event/strength-conditioning-challenge/2025-10-02/
LOCATION:Burn Boot Camp\, 12540 Bandera Rd\, Helotes\, TX\, 78023\, United States
CATEGORIES:Community Events
ATTACH;FMTTYPE=image/jpeg:https://heloteschamber.com/wp-content/uploads/2025/09/Fall-Challenge-image.jpg
END:VEVENT
BEGIN:VEVENT
DTSTART;VALUE=DATE:20251001
DTEND;VALUE=DATE:20251002
DTSTAMP:20260421T072454
CREATED:20250904T182009Z
LAST-MODIFIED:20250904T182009Z
UID:20253-1759276800-1759363199@heloteschamber.com
SUMMARY:Strength & Conditioning Challenge
DESCRIPTION:Join our $79 Challenge!\n\nSee and feel results in 28 days\nBuild total-body strength with unlimited Camps\nBreak personal records\nComplimentary Childwatch\, our version of free childcare\nUnlimited Focus Meetings & nutritional support\nExpert personal training in a group setting
URL:https://heloteschamber.com/event/strength-conditioning-challenge/2025-10-01/
LOCATION:Burn Boot Camp\, 12540 Bandera Rd\, Helotes\, TX\, 78023\, United States
CATEGORIES:Community Events
ATTACH;FMTTYPE=image/jpeg:https://heloteschamber.com/wp-content/uploads/2025/09/Fall-Challenge-image.jpg
END:VEVENT
BEGIN:VEVENT
DTSTART;VALUE=DATE:20250930
DTEND;VALUE=DATE:20251001
DTSTAMP:20260421T072454
CREATED:20250904T182009Z
LAST-MODIFIED:20250904T182009Z
UID:20252-1759190400-1759276799@heloteschamber.com
SUMMARY:Strength & Conditioning Challenge
DESCRIPTION:Join our $79 Challenge!\n\nSee and feel results in 28 days\nBuild total-body strength with unlimited Camps\nBreak personal records\nComplimentary Childwatch\, our version of free childcare\nUnlimited Focus Meetings & nutritional support\nExpert personal training in a group setting
URL:https://heloteschamber.com/event/strength-conditioning-challenge/2025-09-30/
LOCATION:Burn Boot Camp\, 12540 Bandera Rd\, Helotes\, TX\, 78023\, United States
CATEGORIES:Community Events
ATTACH;FMTTYPE=image/jpeg:https://heloteschamber.com/wp-content/uploads/2025/09/Fall-Challenge-image.jpg
END:VEVENT
BEGIN:VEVENT
DTSTART;VALUE=DATE:20250929
DTEND;VALUE=DATE:20250930
DTSTAMP:20260421T072454
CREATED:20250904T182009Z
LAST-MODIFIED:20250904T182009Z
UID:20251-1759104000-1759190399@heloteschamber.com
SUMMARY:Strength & Conditioning Challenge
DESCRIPTION:Join our $79 Challenge!\n\nSee and feel results in 28 days\nBuild total-body strength with unlimited Camps\nBreak personal records\nComplimentary Childwatch\, our version of free childcare\nUnlimited Focus Meetings & nutritional support\nExpert personal training in a group setting
URL:https://heloteschamber.com/event/strength-conditioning-challenge/2025-09-29/
LOCATION:Burn Boot Camp\, 12540 Bandera Rd\, Helotes\, TX\, 78023\, United States
CATEGORIES:Community Events
ATTACH;FMTTYPE=image/jpeg:https://heloteschamber.com/wp-content/uploads/2025/09/Fall-Challenge-image.jpg
END:VEVENT
BEGIN:VEVENT
DTSTART;VALUE=DATE:20250928
DTEND;VALUE=DATE:20250929
DTSTAMP:20260421T072454
CREATED:20250904T182009Z
LAST-MODIFIED:20250904T182009Z
UID:20250-1759017600-1759103999@heloteschamber.com
SUMMARY:Strength & Conditioning Challenge
DESCRIPTION:Join our $79 Challenge!\n\nSee and feel results in 28 days\nBuild total-body strength with unlimited Camps\nBreak personal records\nComplimentary Childwatch\, our version of free childcare\nUnlimited Focus Meetings & nutritional support\nExpert personal training in a group setting
URL:https://heloteschamber.com/event/strength-conditioning-challenge/2025-09-28/
LOCATION:Burn Boot Camp\, 12540 Bandera Rd\, Helotes\, TX\, 78023\, United States
CATEGORIES:Community Events
ATTACH;FMTTYPE=image/jpeg:https://heloteschamber.com/wp-content/uploads/2025/09/Fall-Challenge-image.jpg
END:VEVENT
BEGIN:VEVENT
DTSTART;VALUE=DATE:20250927
DTEND;VALUE=DATE:20250928
DTSTAMP:20260421T072454
CREATED:20250904T182009Z
LAST-MODIFIED:20250904T182009Z
UID:20249-1758931200-1759017599@heloteschamber.com
SUMMARY:Strength & Conditioning Challenge
DESCRIPTION:Join our $79 Challenge!\n\nSee and feel results in 28 days\nBuild total-body strength with unlimited Camps\nBreak personal records\nComplimentary Childwatch\, our version of free childcare\nUnlimited Focus Meetings & nutritional support\nExpert personal training in a group setting
URL:https://heloteschamber.com/event/strength-conditioning-challenge/2025-09-27/
LOCATION:Burn Boot Camp\, 12540 Bandera Rd\, Helotes\, TX\, 78023\, United States
CATEGORIES:Community Events
ATTACH;FMTTYPE=image/jpeg:https://heloteschamber.com/wp-content/uploads/2025/09/Fall-Challenge-image.jpg
END:VEVENT
BEGIN:VEVENT
DTSTART;VALUE=DATE:20250926
DTEND;VALUE=DATE:20250927
DTSTAMP:20260421T072454
CREATED:20250904T182009Z
LAST-MODIFIED:20250904T182009Z
UID:20248-1758844800-1758931199@heloteschamber.com
SUMMARY:Strength & Conditioning Challenge
DESCRIPTION:Join our $79 Challenge!\n\nSee and feel results in 28 days\nBuild total-body strength with unlimited Camps\nBreak personal records\nComplimentary Childwatch\, our version of free childcare\nUnlimited Focus Meetings & nutritional support\nExpert personal training in a group setting
URL:https://heloteschamber.com/event/strength-conditioning-challenge/2025-09-26/
LOCATION:Burn Boot Camp\, 12540 Bandera Rd\, Helotes\, TX\, 78023\, United States
CATEGORIES:Community Events
ATTACH;FMTTYPE=image/jpeg:https://heloteschamber.com/wp-content/uploads/2025/09/Fall-Challenge-image.jpg
END:VEVENT
BEGIN:VEVENT
DTSTART;VALUE=DATE:20250925
DTEND;VALUE=DATE:20250926
DTSTAMP:20260421T072454
CREATED:20250904T182009Z
LAST-MODIFIED:20250904T182009Z
UID:20247-1758758400-1758844799@heloteschamber.com
SUMMARY:Strength & Conditioning Challenge
DESCRIPTION:Join our $79 Challenge!\n\nSee and feel results in 28 days\nBuild total-body strength with unlimited Camps\nBreak personal records\nComplimentary Childwatch\, our version of free childcare\nUnlimited Focus Meetings & nutritional support\nExpert personal training in a group setting
URL:https://heloteschamber.com/event/strength-conditioning-challenge/2025-09-25/
LOCATION:Burn Boot Camp\, 12540 Bandera Rd\, Helotes\, TX\, 78023\, United States
CATEGORIES:Community Events
ATTACH;FMTTYPE=image/jpeg:https://heloteschamber.com/wp-content/uploads/2025/09/Fall-Challenge-image.jpg
END:VEVENT
BEGIN:VEVENT
DTSTART;VALUE=DATE:20250924
DTEND;VALUE=DATE:20250925
DTSTAMP:20260421T072454
CREATED:20250904T182009Z
LAST-MODIFIED:20250904T182009Z
UID:20246-1758672000-1758758399@heloteschamber.com
SUMMARY:Strength & Conditioning Challenge
DESCRIPTION:Join our $79 Challenge!\n\nSee and feel results in 28 days\nBuild total-body strength with unlimited Camps\nBreak personal records\nComplimentary Childwatch\, our version of free childcare\nUnlimited Focus Meetings & nutritional support\nExpert personal training in a group setting
URL:https://heloteschamber.com/event/strength-conditioning-challenge/2025-09-24/
LOCATION:Burn Boot Camp\, 12540 Bandera Rd\, Helotes\, TX\, 78023\, United States
CATEGORIES:Community Events
ATTACH;FMTTYPE=image/jpeg:https://heloteschamber.com/wp-content/uploads/2025/09/Fall-Challenge-image.jpg
END:VEVENT
BEGIN:VEVENT
DTSTART;VALUE=DATE:20250923
DTEND;VALUE=DATE:20250924
DTSTAMP:20260421T072454
CREATED:20250904T182009Z
LAST-MODIFIED:20250904T182009Z
UID:20245-1758585600-1758671999@heloteschamber.com
SUMMARY:Strength & Conditioning Challenge
DESCRIPTION:Join our $79 Challenge!\n\nSee and feel results in 28 days\nBuild total-body strength with unlimited Camps\nBreak personal records\nComplimentary Childwatch\, our version of free childcare\nUnlimited Focus Meetings & nutritional support\nExpert personal training in a group setting
URL:https://heloteschamber.com/event/strength-conditioning-challenge/2025-09-23/
LOCATION:Burn Boot Camp\, 12540 Bandera Rd\, Helotes\, TX\, 78023\, United States
CATEGORIES:Community Events
ATTACH;FMTTYPE=image/jpeg:https://heloteschamber.com/wp-content/uploads/2025/09/Fall-Challenge-image.jpg
END:VEVENT
BEGIN:VEVENT
DTSTART;VALUE=DATE:20250922
DTEND;VALUE=DATE:20250923
DTSTAMP:20260421T072454
CREATED:20250904T182009Z
LAST-MODIFIED:20250904T182009Z
UID:20244-1758499200-1758585599@heloteschamber.com
SUMMARY:Strength & Conditioning Challenge
DESCRIPTION:Join our $79 Challenge!\n\nSee and feel results in 28 days\nBuild total-body strength with unlimited Camps\nBreak personal records\nComplimentary Childwatch\, our version of free childcare\nUnlimited Focus Meetings & nutritional support\nExpert personal training in a group setting
URL:https://heloteschamber.com/event/strength-conditioning-challenge/2025-09-22/
LOCATION:Burn Boot Camp\, 12540 Bandera Rd\, Helotes\, TX\, 78023\, United States
CATEGORIES:Community Events
ATTACH;FMTTYPE=image/jpeg:https://heloteschamber.com/wp-content/uploads/2025/09/Fall-Challenge-image.jpg
END:VEVENT
BEGIN:VEVENT
DTSTART;VALUE=DATE:20250921
DTEND;VALUE=DATE:20250922
DTSTAMP:20260421T072454
CREATED:20250904T182009Z
LAST-MODIFIED:20250904T182009Z
UID:20243-1758412800-1758499199@heloteschamber.com
SUMMARY:Strength & Conditioning Challenge
DESCRIPTION:Join our $79 Challenge!\n\nSee and feel results in 28 days\nBuild total-body strength with unlimited Camps\nBreak personal records\nComplimentary Childwatch\, our version of free childcare\nUnlimited Focus Meetings & nutritional support\nExpert personal training in a group setting
URL:https://heloteschamber.com/event/strength-conditioning-challenge/2025-09-21/
LOCATION:Burn Boot Camp\, 12540 Bandera Rd\, Helotes\, TX\, 78023\, United States
CATEGORIES:Community Events
ATTACH;FMTTYPE=image/jpeg:https://heloteschamber.com/wp-content/uploads/2025/09/Fall-Challenge-image.jpg
END:VEVENT
BEGIN:VEVENT
DTSTART;VALUE=DATE:20250920
DTEND;VALUE=DATE:20250921
DTSTAMP:20260421T072454
CREATED:20250904T182009Z
LAST-MODIFIED:20250904T182009Z
UID:20242-1758326400-1758412799@heloteschamber.com
SUMMARY:Strength & Conditioning Challenge
DESCRIPTION:Join our $79 Challenge!\n\nSee and feel results in 28 days\nBuild total-body strength with unlimited Camps\nBreak personal records\nComplimentary Childwatch\, our version of free childcare\nUnlimited Focus Meetings & nutritional support\nExpert personal training in a group setting
URL:https://heloteschamber.com/event/strength-conditioning-challenge/2025-09-20/
LOCATION:Burn Boot Camp\, 12540 Bandera Rd\, Helotes\, TX\, 78023\, United States
CATEGORIES:Community Events
ATTACH;FMTTYPE=image/jpeg:https://heloteschamber.com/wp-content/uploads/2025/09/Fall-Challenge-image.jpg
END:VEVENT
BEGIN:VEVENT
DTSTART;VALUE=DATE:20250919
DTEND;VALUE=DATE:20250920
DTSTAMP:20260421T072454
CREATED:20250904T182009Z
LAST-MODIFIED:20250904T182009Z
UID:20241-1758240000-1758326399@heloteschamber.com
SUMMARY:Strength & Conditioning Challenge
DESCRIPTION:Join our $79 Challenge!\n\nSee and feel results in 28 days\nBuild total-body strength with unlimited Camps\nBreak personal records\nComplimentary Childwatch\, our version of free childcare\nUnlimited Focus Meetings & nutritional support\nExpert personal training in a group setting
URL:https://heloteschamber.com/event/strength-conditioning-challenge/2025-09-19/
LOCATION:Burn Boot Camp\, 12540 Bandera Rd\, Helotes\, TX\, 78023\, United States
CATEGORIES:Community Events
ATTACH;FMTTYPE=image/jpeg:https://heloteschamber.com/wp-content/uploads/2025/09/Fall-Challenge-image.jpg
END:VEVENT
BEGIN:VEVENT
DTSTART;VALUE=DATE:20250918
DTEND;VALUE=DATE:20250919
DTSTAMP:20260421T072454
CREATED:20250904T182009Z
LAST-MODIFIED:20250904T182009Z
UID:20239-1758153600-1758239999@heloteschamber.com
SUMMARY:Strength & Conditioning Challenge
DESCRIPTION:Join our $79 Challenge!\n\nSee and feel results in 28 days\nBuild total-body strength with unlimited Camps\nBreak personal records\nComplimentary Childwatch\, our version of free childcare\nUnlimited Focus Meetings & nutritional support\nExpert personal training in a group setting
URL:https://heloteschamber.com/event/strength-conditioning-challenge/2025-09-18/
LOCATION:Burn Boot Camp\, 12540 Bandera Rd\, Helotes\, TX\, 78023\, United States
CATEGORIES:Community Events
ATTACH;FMTTYPE=image/jpeg:https://heloteschamber.com/wp-content/uploads/2025/09/Fall-Challenge-image.jpg
END:VEVENT
BEGIN:VEVENT
DTSTART;VALUE=DATE:20250917
DTEND;VALUE=DATE:20250918
DTSTAMP:20260421T072454
CREATED:20250904T182009Z
LAST-MODIFIED:20250904T182009Z
UID:20238-1758067200-1758153599@heloteschamber.com
SUMMARY:Strength & Conditioning Challenge
DESCRIPTION:Join our $79 Challenge!\n\nSee and feel results in 28 days\nBuild total-body strength with unlimited Camps\nBreak personal records\nComplimentary Childwatch\, our version of free childcare\nUnlimited Focus Meetings & nutritional support\nExpert personal training in a group setting
URL:https://heloteschamber.com/event/strength-conditioning-challenge/2025-09-17/
LOCATION:Burn Boot Camp\, 12540 Bandera Rd\, Helotes\, TX\, 78023\, United States
CATEGORIES:Community Events
ATTACH;FMTTYPE=image/jpeg:https://heloteschamber.com/wp-content/uploads/2025/09/Fall-Challenge-image.jpg
END:VEVENT
BEGIN:VEVENT
DTSTART;VALUE=DATE:20250916
DTEND;VALUE=DATE:20250917
DTSTAMP:20260421T072454
CREATED:20250904T182009Z
LAST-MODIFIED:20250904T182009Z
UID:20237-1757980800-1758067199@heloteschamber.com
SUMMARY:Strength & Conditioning Challenge
DESCRIPTION:Join our $79 Challenge!\n\nSee and feel results in 28 days\nBuild total-body strength with unlimited Camps\nBreak personal records\nComplimentary Childwatch\, our version of free childcare\nUnlimited Focus Meetings & nutritional support\nExpert personal training in a group setting
URL:https://heloteschamber.com/event/strength-conditioning-challenge/2025-09-16/
LOCATION:Burn Boot Camp\, 12540 Bandera Rd\, Helotes\, TX\, 78023\, United States
CATEGORIES:Community Events
ATTACH;FMTTYPE=image/jpeg:https://heloteschamber.com/wp-content/uploads/2025/09/Fall-Challenge-image.jpg
END:VEVENT
BEGIN:VEVENT
DTSTART;VALUE=DATE:20250915
DTEND;VALUE=DATE:20250916
DTSTAMP:20260421T072454
CREATED:20250904T182009Z
LAST-MODIFIED:20250904T182009Z
UID:20236-1757894400-1757980799@heloteschamber.com
SUMMARY:Strength & Conditioning Challenge
DESCRIPTION:Join our $79 Challenge!\n\nSee and feel results in 28 days\nBuild total-body strength with unlimited Camps\nBreak personal records\nComplimentary Childwatch\, our version of free childcare\nUnlimited Focus Meetings & nutritional support\nExpert personal training in a group setting
URL:https://heloteschamber.com/event/strength-conditioning-challenge/2025-09-15/
LOCATION:Burn Boot Camp\, 12540 Bandera Rd\, Helotes\, TX\, 78023\, United States
CATEGORIES:Community Events
ATTACH;FMTTYPE=image/jpeg:https://heloteschamber.com/wp-content/uploads/2025/09/Fall-Challenge-image.jpg
END:VEVENT
BEGIN:VEVENT
DTSTART;VALUE=DATE:20250914
DTEND;VALUE=DATE:20250915
DTSTAMP:20260421T072454
CREATED:20250904T182009Z
LAST-MODIFIED:20250904T182009Z
UID:20235-1757808000-1757894399@heloteschamber.com
SUMMARY:Strength & Conditioning Challenge
DESCRIPTION:Join our $79 Challenge!\n\nSee and feel results in 28 days\nBuild total-body strength with unlimited Camps\nBreak personal records\nComplimentary Childwatch\, our version of free childcare\nUnlimited Focus Meetings & nutritional support\nExpert personal training in a group setting
URL:https://heloteschamber.com/event/strength-conditioning-challenge/2025-09-14/
LOCATION:Burn Boot Camp\, 12540 Bandera Rd\, Helotes\, TX\, 78023\, United States
CATEGORIES:Community Events
ATTACH;FMTTYPE=image/jpeg:https://heloteschamber.com/wp-content/uploads/2025/09/Fall-Challenge-image.jpg
END:VEVENT
BEGIN:VEVENT
DTSTART;VALUE=DATE:20250913
DTEND;VALUE=DATE:20250914
DTSTAMP:20260421T072454
CREATED:20250904T182009Z
LAST-MODIFIED:20250904T182009Z
UID:20234-1757721600-1757807999@heloteschamber.com
SUMMARY:Strength & Conditioning Challenge
DESCRIPTION:Join our $79 Challenge!\n\nSee and feel results in 28 days\nBuild total-body strength with unlimited Camps\nBreak personal records\nComplimentary Childwatch\, our version of free childcare\nUnlimited Focus Meetings & nutritional support\nExpert personal training in a group setting
URL:https://heloteschamber.com/event/strength-conditioning-challenge/2025-09-13/
LOCATION:Burn Boot Camp\, 12540 Bandera Rd\, Helotes\, TX\, 78023\, United States
CATEGORIES:Community Events
ATTACH;FMTTYPE=image/jpeg:https://heloteschamber.com/wp-content/uploads/2025/09/Fall-Challenge-image.jpg
END:VEVENT
BEGIN:VEVENT
DTSTART;VALUE=DATE:20250912
DTEND;VALUE=DATE:20250913
DTSTAMP:20260421T072454
CREATED:20250904T182009Z
LAST-MODIFIED:20250904T182009Z
UID:20233-1757635200-1757721599@heloteschamber.com
SUMMARY:Strength & Conditioning Challenge
DESCRIPTION:Join our $79 Challenge!\n\nSee and feel results in 28 days\nBuild total-body strength with unlimited Camps\nBreak personal records\nComplimentary Childwatch\, our version of free childcare\nUnlimited Focus Meetings & nutritional support\nExpert personal training in a group setting
URL:https://heloteschamber.com/event/strength-conditioning-challenge/2025-09-12/
LOCATION:Burn Boot Camp\, 12540 Bandera Rd\, Helotes\, TX\, 78023\, United States
CATEGORIES:Community Events
ATTACH;FMTTYPE=image/jpeg:https://heloteschamber.com/wp-content/uploads/2025/09/Fall-Challenge-image.jpg
END:VEVENT
BEGIN:VEVENT
DTSTART;VALUE=DATE:20250911
DTEND;VALUE=DATE:20250912
DTSTAMP:20260421T072454
CREATED:20250904T182009Z
LAST-MODIFIED:20250904T182009Z
UID:20232-1757548800-1757635199@heloteschamber.com
SUMMARY:Strength & Conditioning Challenge
DESCRIPTION:Join our $79 Challenge!\n\nSee and feel results in 28 days\nBuild total-body strength with unlimited Camps\nBreak personal records\nComplimentary Childwatch\, our version of free childcare\nUnlimited Focus Meetings & nutritional support\nExpert personal training in a group setting
URL:https://heloteschamber.com/event/strength-conditioning-challenge/2025-09-11/
LOCATION:Burn Boot Camp\, 12540 Bandera Rd\, Helotes\, TX\, 78023\, United States
CATEGORIES:Community Events
ATTACH;FMTTYPE=image/jpeg:https://heloteschamber.com/wp-content/uploads/2025/09/Fall-Challenge-image.jpg
END:VEVENT
BEGIN:VEVENT
DTSTART;VALUE=DATE:20250910
DTEND;VALUE=DATE:20250911
DTSTAMP:20260421T072454
CREATED:20250904T182009Z
LAST-MODIFIED:20250904T182009Z
UID:20231-1757462400-1757548799@heloteschamber.com
SUMMARY:Strength & Conditioning Challenge
DESCRIPTION:Join our $79 Challenge!\n\nSee and feel results in 28 days\nBuild total-body strength with unlimited Camps\nBreak personal records\nComplimentary Childwatch\, our version of free childcare\nUnlimited Focus Meetings & nutritional support\nExpert personal training in a group setting
URL:https://heloteschamber.com/event/strength-conditioning-challenge/2025-09-10/
LOCATION:Burn Boot Camp\, 12540 Bandera Rd\, Helotes\, TX\, 78023\, United States
CATEGORIES:Community Events
ATTACH;FMTTYPE=image/jpeg:https://heloteschamber.com/wp-content/uploads/2025/09/Fall-Challenge-image.jpg
END:VEVENT
BEGIN:VEVENT
DTSTART;VALUE=DATE:20250909
DTEND;VALUE=DATE:20250910
DTSTAMP:20260421T072454
CREATED:20250904T182009Z
LAST-MODIFIED:20250904T182009Z
UID:20230-1757376000-1757462399@heloteschamber.com
SUMMARY:Strength & Conditioning Challenge
DESCRIPTION:Join our $79 Challenge!\n\nSee and feel results in 28 days\nBuild total-body strength with unlimited Camps\nBreak personal records\nComplimentary Childwatch\, our version of free childcare\nUnlimited Focus Meetings & nutritional support\nExpert personal training in a group setting
URL:https://heloteschamber.com/event/strength-conditioning-challenge/2025-09-09/
LOCATION:Burn Boot Camp\, 12540 Bandera Rd\, Helotes\, TX\, 78023\, United States
CATEGORIES:Community Events
ATTACH;FMTTYPE=image/jpeg:https://heloteschamber.com/wp-content/uploads/2025/09/Fall-Challenge-image.jpg
END:VEVENT
BEGIN:VEVENT
DTSTART;VALUE=DATE:20250908
DTEND;VALUE=DATE:20250909
DTSTAMP:20260421T072454
CREATED:20250904T182009Z
LAST-MODIFIED:20250904T182009Z
UID:20228-1757289600-1757375999@heloteschamber.com
SUMMARY:Strength & Conditioning Challenge
DESCRIPTION:Join our $79 Challenge!\n\nSee and feel results in 28 days\nBuild total-body strength with unlimited Camps\nBreak personal records\nComplimentary Childwatch\, our version of free childcare\nUnlimited Focus Meetings & nutritional support\nExpert personal training in a group setting
URL:https://heloteschamber.com/event/strength-conditioning-challenge/2025-09-08/
LOCATION:Burn Boot Camp\, 12540 Bandera Rd\, Helotes\, TX\, 78023\, United States
CATEGORIES:Community Events
ATTACH;FMTTYPE=image/jpeg:https://heloteschamber.com/wp-content/uploads/2025/09/Fall-Challenge-image.jpg
END:VEVENT
BEGIN:VEVENT
DTSTART;VALUE=DATE:20241026
DTEND;VALUE=DATE:20241027
DTSTAMP:20260421T072454
CREATED:20241015T200618Z
LAST-MODIFIED:20241015T200618Z
UID:17275-1729900800-1729987199@heloteschamber.com
SUMMARY:Free Saturday Camps!
DESCRIPTION:Free Camps on Every Saturday in October. \nNo Tricks. Just Treats!
URL:https://heloteschamber.com/event/free-saturday-camps/2024-10-26/
LOCATION:Burn Boot Camp\, 12540 Bandera Rd\, Helotes\, TX\, 78023\, United States
CATEGORIES:Community Events
ATTACH;FMTTYPE=image/jpeg:https://heloteschamber.com/wp-content/uploads/2024/10/Burn-Boot-Camp-October-2024.jpg
END:VEVENT
BEGIN:VEVENT
DTSTART;VALUE=DATE:20241019
DTEND;VALUE=DATE:20241020
DTSTAMP:20260421T072454
CREATED:20241015T200618Z
LAST-MODIFIED:20241015T200618Z
UID:17272-1729296000-1729382399@heloteschamber.com
SUMMARY:Free Saturday Camps!
DESCRIPTION:Free Camps on Every Saturday in October. \nNo Tricks. Just Treats!
URL:https://heloteschamber.com/event/free-saturday-camps/2024-10-19/
LOCATION:Burn Boot Camp\, 12540 Bandera Rd\, Helotes\, TX\, 78023\, United States
CATEGORIES:Community Events
ATTACH;FMTTYPE=image/jpeg:https://heloteschamber.com/wp-content/uploads/2024/10/Burn-Boot-Camp-October-2024.jpg
END:VEVENT
END:VCALENDAR