BEGIN:VCALENDAR
VERSION:2.0
PRODID:-//Helotes Chamber of Commerce - ECPv6.13.2.1//NONSGML v1.0//EN
CALSCALE:GREGORIAN
METHOD:PUBLISH
X-WR-CALNAME:Helotes Chamber of Commerce
X-ORIGINAL-URL:https://heloteschamber.com
X-WR-CALDESC:Events for Helotes Chamber of Commerce
REFRESH-INTERVAL;VALUE=DURATION:PT1H
X-Robots-Tag:noindex
X-PUBLISHED-TTL:PT1H
BEGIN:VTIMEZONE
TZID:America/Chicago
BEGIN:DAYLIGHT
TZOFFSETFROM:-0600
TZOFFSETTO:-0500
TZNAME:CDT
DTSTART:20220313T080000
END:DAYLIGHT
BEGIN:STANDARD
TZOFFSETFROM:-0500
TZOFFSETTO:-0600
TZNAME:CST
DTSTART:20221106T070000
END:STANDARD
END:VTIMEZONE
BEGIN:VEVENT
DTSTART;TZID=America/Chicago:20220209T080000
DTEND;TZID=America/Chicago:20220209T093000
DTSTAMP:20260424T163626
CREATED:20211224T164202Z
LAST-MODIFIED:20211224T164202Z
UID:7826-1644393600-1644399000@heloteschamber.com
SUMMARY:Morning Mingle
DESCRIPTION:Come join the Helotes Area Chamber of Commerce for a cup a coffee and networking.
URL:https://heloteschamber.com/event/morning-mingle-2/
CATEGORIES:Morning Mingle
ATTACH;FMTTYPE=image/png:https://heloteschamber.com/wp-content/uploads/2021/12/Morning-Mingle_Save-the-Date-be2f4ac82ff86cf752eac65ac3519c28.png
END:VEVENT
END:VCALENDAR