BEGIN:VCALENDAR
VERSION:2.0
PRODID:-//Helotes Chamber of Commerce - ECPv6.13.2.1//NONSGML v1.0//EN
CALSCALE:GREGORIAN
METHOD:PUBLISH
X-WR-CALNAME:Helotes Chamber of Commerce
X-ORIGINAL-URL:https://heloteschamber.com
X-WR-CALDESC:Events for Helotes Chamber of Commerce
REFRESH-INTERVAL;VALUE=DURATION:PT1H
X-Robots-Tag:noindex
X-PUBLISHED-TTL:PT1H
BEGIN:VTIMEZONE
TZID:UTC
BEGIN:STANDARD
TZOFFSETFROM:+0000
TZOFFSETTO:+0000
TZNAME:UTC
DTSTART:20210101T000000
END:STANDARD
END:VTIMEZONE
BEGIN:VTIMEZONE
TZID:America/Chicago
BEGIN:DAYLIGHT
TZOFFSETFROM:-0600
TZOFFSETTO:-0500
TZNAME:CDT
DTSTART:20210314T080000
END:DAYLIGHT
BEGIN:STANDARD
TZOFFSETFROM:-0500
TZOFFSETTO:-0600
TZNAME:CST
DTSTART:20211107T070000
END:STANDARD
END:VTIMEZONE
BEGIN:VEVENT
DTSTART;TZID=UTC:20211208T080000
DTEND;TZID=UTC:20211208T093000
DTSTAMP:20260422T072111
CREATED:20211202T225208Z
LAST-MODIFIED:20211202T225319Z
UID:5944-1638950400-1638955800@heloteschamber.com
SUMMARY:December Morning Mingle - Chick-fil-A
DESCRIPTION:
URL:https://heloteschamber.com/event/december-morning-mingle-chick-fil-a/
LOCATION:Chick-fil-A\, 11558 Bandera Road\, San Antonio\, TX\, 78250\, United States
CATEGORIES:Chamber Events,Morning Mingle
ATTACH;FMTTYPE=image/jpeg:https://heloteschamber.com/wp-content/uploads/2021/12/6196a6c053dde1619b6ac7de.jpg
END:VEVENT
BEGIN:VEVENT
DTSTART;TZID=America/Chicago:20211208T170000
DTEND;TZID=America/Chicago:20211208T190000
DTSTAMP:20260422T072111
CREATED:20211202T171015Z
LAST-MODIFIED:20211202T171057Z
UID:5947-1638982800-1638990000@heloteschamber.com
SUMMARY:Business After Hours at United Texas Credit Union
DESCRIPTION:
URL:https://heloteschamber.com/event/business-after-hours-at-united-texas-credit-union/
LOCATION:United Texas Credit Union\, 10023 West Loop 1604 N.\, San Antonio\, 78254\, United States
CATEGORIES:Business After Hours,Chamber Events
ATTACH;FMTTYPE=image/jpeg:https://heloteschamber.com/wp-content/uploads/2021/12/61956311d9d86d2c132319d2.jpg
END:VEVENT
BEGIN:VEVENT
DTSTART;TZID=America/Chicago:20211210T140000
DTEND;TZID=America/Chicago:20211210T150000
DTSTAMP:20260422T072111
CREATED:20211202T171240Z
LAST-MODIFIED:20211202T171240Z
UID:5951-1639144800-1639148400@heloteschamber.com
SUMMARY:Ribbon Cutting - Premier Martial Arts
DESCRIPTION:
URL:https://heloteschamber.com/event/ribbon-cutting-premier-martial-arts/
LOCATION:Premier Martial Arts\, 10350 Bandera Road\, #204\, San Antonio\, TX\, 78250\, United States
CATEGORIES:Chamber Events,Ribbon Cutting
ATTACH;FMTTYPE=image/jpeg:https://heloteschamber.com/wp-content/uploads/2021/12/61a7d692c1d14b030966b9d2.jpg
END:VEVENT
BEGIN:VEVENT
DTSTART;TZID=America/Chicago:20211211T160000
DTEND;TZID=America/Chicago:20211211T183000
DTSTAMP:20260422T072111
CREATED:20211202T171416Z
LAST-MODIFIED:20211202T171417Z
UID:5954-1639238400-1639247400@heloteschamber.com
SUMMARY:Photos with Santa
DESCRIPTION:
URL:https://heloteschamber.com/event/photos-with-santa/2021-12-11/
LOCATION:Old Town Helotes\, 14391 Old Bandera Rd\, Helotes\, TX\, 78023\, United States
CATEGORIES:Chamber Events,Community Events,Special Events
ATTACH;FMTTYPE=image/jpeg:https://heloteschamber.com/wp-content/uploads/2021/12/6196a771ae63a029190c1b38.jpg
END:VEVENT
END:VCALENDAR