BEGIN:VCALENDAR
VERSION:2.0
PRODID:-//Helotes Chamber of Commerce - ECPv6.13.2.1//NONSGML v1.0//EN
CALSCALE:GREGORIAN
METHOD:PUBLISH
X-ORIGINAL-URL:https://heloteschamber.com
X-WR-CALDESC:Events for Helotes Chamber of Commerce
REFRESH-INTERVAL;VALUE=DURATION:PT1H
X-Robots-Tag:noindex
X-PUBLISHED-TTL:PT1H
BEGIN:VTIMEZONE
TZID:America/Chicago
BEGIN:DAYLIGHT
TZOFFSETFROM:-0600
TZOFFSETTO:-0500
TZNAME:CDT
DTSTART:20230312T080000
END:DAYLIGHT
BEGIN:STANDARD
TZOFFSETFROM:-0500
TZOFFSETTO:-0600
TZNAME:CST
DTSTART:20231105T070000
END:STANDARD
END:VTIMEZONE
BEGIN:VEVENT
DTSTART;TZID=America/Chicago:20230922T094500
DTEND;TZID=America/Chicago:20230922T134500
DTSTAMP:20260424T052531
CREATED:20230706T145914Z
LAST-MODIFIED:20230706T145914Z
UID:11205-1695375900-1695390300@heloteschamber.com
SUMMARY:Caiden's Hope Foundation Charity Golf
DESCRIPTION:Date: Friday\, September 22\, 2023\n\nRegistration & Warm Up: 9:45 am\nShotgun Start: 10:20 am\nAwards: 1:45 pm\n\nLocation: Top Golf San Antonio\, 5539 Loop 1604 West\, San Antonio\, TX 78249\n$500 / Team of 6. Register by August 22\, 2023 at https://EventBrite.com/CaidensHope \nSponsorship Opportunities:\n\nGold Sponsor: $5\,000\nSilver Sponsor: $1\,500\nBronze Sponsor: $1\,000\nMedal Sponsor: $1\,500\nHole-in-One Sponsor: $1\,000\n\n$10\,000 Hole in One Prize!
URL:https://heloteschamber.com/event/caidens-hope-foundation-charity-golf/
LOCATION:Topgolf – San Antonio\, 5539 N Loop 1604 W\, San Antonio\, TX\, 78257\, United States
CATEGORIES:Community Events,Member Events
ATTACH;FMTTYPE=image/png:https://heloteschamber.com/wp-content/uploads/2023/07/Caidens-Hope-Top-Golf-9.22.23_v2.png
END:VEVENT
BEGIN:VEVENT
DTSTART;TZID=America/Chicago:20230724T180000
DTEND;TZID=America/Chicago:20230724T200000
DTSTAMP:20260424T052531
CREATED:20230708T030439Z
LAST-MODIFIED:20230708T030439Z
UID:11246-1690221600-1690228800@heloteschamber.com
SUMMARY:Vacation Bible School at Great Oaks Fellowship Church
DESCRIPTION:Great Oaks Farm – Where God’s Fruit Grows\nDate: July 24 – 27\, 2023\, 6-8 pm\nK-5th Grade\nLocation: Great Oaks Fellowship Church\, 8531 W. Loop 1604 N\, San Antonio\, TX \nRegister at https://gofellowship.org/kids\n 
URL:https://heloteschamber.com/event/vacation-bible-school-at-great-oaks-fellowship-church/2023-07-24/
LOCATION:Great Oaks Fellowship Church\, 8531 W Loop 1604 N\, San Antonio
CATEGORIES:Community Events,Member Events
ATTACH;FMTTYPE=image/png:https://heloteschamber.com/wp-content/uploads/2023/07/Great-Oaks-Farms-VBS-7.24.23.png
END:VEVENT
BEGIN:VEVENT
DTSTART;TZID=America/Chicago:20230713T140000
DTEND;TZID=America/Chicago:20230713T160000
DTSTAMP:20260424T052531
CREATED:20230627T185103Z
LAST-MODIFIED:20230627T185103Z
UID:11187-1689256800-1689264000@heloteschamber.com
SUMMARY:Stop by for a Sweet Treat
DESCRIPTION:Date: Thursday\, July 13\, 2023\nTime: 2:00 pm – 4:00 pm\nLocation: Alamo Ranch Financial Center\n11839 Culebra Rd\, San Antonio\, TX 78253
URL:https://heloteschamber.com/event/stop-by-for-a-sweet-treat/
LOCATION:Alamo Ranch Financial Center\, 11839 Culebra Road\, San Antonio\, TX\, 78253\, United States
CATEGORIES:Community Events,Member Events
ATTACH;FMTTYPE=image/png:https://heloteschamber.com/wp-content/uploads/2023/06/Screen-Shot-2023-06-28-at-2.42.41-AM.png
END:VEVENT
BEGIN:VEVENT
DTSTART;TZID=America/Chicago:20230711T160000
DTEND;TZID=America/Chicago:20230711T190000
DTSTAMP:20260424T052531
CREATED:20230708T025904Z
LAST-MODIFIED:20230708T025904Z
UID:11243-1689091200-1689102000@heloteschamber.com
SUMMARY:Dale Carnegie Course - Learn How to Build Trust and Motivate People to Act
DESCRIPTION:Date: Tuesday\, July 11\, 2023\, 4 PM – 7 PM\nIn-Person FREE Session\nLearn More at https://www.dalecarnegie.com/en/courses/4076?franchise_id=12\n 
URL:https://heloteschamber.com/event/dale-carnegie-course-learn-how-to-build-trust-and-motivate-people-to-act/
CATEGORIES:Community Events,Member Events
ATTACH;FMTTYPE=image/jpeg:https://heloteschamber.com/wp-content/uploads/2023/07/SA-Free-Session-July-11-QR.jpg
END:VEVENT
BEGIN:VEVENT
DTSTART;TZID=America/Chicago:20230629T180000
DTEND;TZID=America/Chicago:20230629T210000
DTSTAMP:20260424T052531
CREATED:20230609T224721Z
LAST-MODIFIED:20230609T224721Z
UID:10931-1688061600-1688072400@heloteschamber.com
SUMMARY:Cruise Night at Overture Stone Oak
DESCRIPTION:Date: Thursday\, June 29\, 2023\nTime: 6:00 pm\nLocation: Overture Stone Oak 18610 Tuscany Stone\, San Antonio\, TX 78253
URL:https://heloteschamber.com/event/cruise-night-at-overture-stone-oak/
LOCATION:Overture Stone Oak\, 18610 Tuscany Stone\, San Antonio
CATEGORIES:Community Events,Member Events
ATTACH;FMTTYPE=application/pdf:https://heloteschamber.com/wp-content/uploads/2023/06/Cruise-Planners-Event-6.29.23.pdf
END:VEVENT
BEGIN:VEVENT
DTSTART;TZID=America/Chicago:20230615T083000
DTEND;TZID=America/Chicago:20230615T170000
DTSTAMP:20260424T052531
CREATED:20230503T181121Z
LAST-MODIFIED:20230503T182636Z
UID:10682-1686817800-1686848400@heloteschamber.com
SUMMARY:2023 Disabled Outdoorsmen USA Golf Tournament
DESCRIPTION:Join the 2023 Disabled Outdoorsmen USA Golf Tournament on June 15\, 2023 at Fair Oaks Ranch Country Club. \nWHERE: 7900 Fair Oaks Parkway\nWHEN: June 15th\, 2023. 8:30 am Shotgun Start\nSign up at https://www.disableddoutdoorsmen.com\n 
URL:https://heloteschamber.com/event/2023-disabled-outdoorsmen-usa-golf-tournament/
LOCATION:Fair Oaks Ranch Country Club\, 7900 Fair Oaks Pkwy\, San Antonio
CATEGORIES:Community Events,Member Events
ATTACH;FMTTYPE=image/jpeg:https://heloteschamber.com/wp-content/uploads/2023/05/Disabled-Outdoorsman-Golf-Tournament-6.15.23.jpg
END:VEVENT
BEGIN:VEVENT
DTSTART;TZID=America/Chicago:20230524T183000
DTEND;TZID=America/Chicago:20230524T203000
DTSTAMP:20260424T052531
CREATED:20230504T215227Z
LAST-MODIFIED:20230504T215227Z
UID:10689-1684953000-1684960200@heloteschamber.com
SUMMARY:Cruise Night at Solea Alamo Ranch
DESCRIPTION:Date: Wednesday\, May 24\, 2023\nTime: 6:30 pm\nLocation: 11133 Westwood Loop\, San Antonio\, TX 78253
URL:https://heloteschamber.com/event/cruise-night-at-solea-alamo-ranch/
LOCATION:Solea Alamo Ranch\, 11133 Westwood Loop\, San Antonio\, TX\, 78253\, United States
CATEGORIES:Community Events,Member Events
ATTACH;FMTTYPE=image/png:https://heloteschamber.com/wp-content/uploads/2023/05/Screen-Shot-2023-05-04-at-4.50.53-PM.png
END:VEVENT
BEGIN:VEVENT
DTSTART;TZID=America/Chicago:20230519T180000
DTEND;TZID=America/Chicago:20230519T200000
DTSTAMP:20260424T052531
CREATED:20230511T153726Z
LAST-MODIFIED:20230511T153726Z
UID:10702-1684519200-1684526400@heloteschamber.com
SUMMARY:Craft & Sip
DESCRIPTION:Join us for our DIY jewelry workshop and build-your-own floral bar.\nWHERE: Elysia Collective\nWHEN: May 19th\, 2023. 6pm – 8pm\nRegistration: $60/person. DM @shopmerakitrade or @sofiaramsay to secure your spot. \n 
URL:https://heloteschamber.com/event/craft-sip/
LOCATION:Elysia Collective\, 11858 Wurzbach Rd\, San Antonio\, TX\, 78230\, United States
CATEGORIES:Community Events,Member Events
ATTACH;FMTTYPE=image/png:https://heloteschamber.com/wp-content/uploads/2023/05/Sofia-Ramsay-Event-5.19.23.png
END:VEVENT
BEGIN:VEVENT
DTSTART;TZID=America/Chicago:20230509T180000
DTEND;TZID=America/Chicago:20230509T190000
DTSTAMP:20260424T052531
CREATED:20230427T161915Z
LAST-MODIFIED:20230427T161915Z
UID:10565-1683655200-1683658800@heloteschamber.com
SUMMARY:Boy Scouts Programs Event
DESCRIPTION:You are invited to an evening of enjoyment including dinner and information about the local scouting program in Helotes! We’ll have scouting games\, memorabilia\, trivia\, prizes and a few interesting speakers to spread the scouting spirit! An opportunity to support local scout and scouting will be available\, so be prepared!  \nTo RSVP or ask questions\, please reach out to Marcqualla Oliver at marcqualla.oliver@scouting.org or 210-206-7612. You can also reach out to Luis Sepulveda at luis.sepulveda@scouting.org or 210-355-4913
URL:https://heloteschamber.com/event/boy-scouts-programs-event/
LOCATION:The home of Mike Hanley\, 9467 Camino Vendado\, Helotes\, TX\, 78026\, United States
CATEGORIES:Community Events,Member Events
ATTACH;FMTTYPE=image/png:https://heloteschamber.com/wp-content/uploads/2023/04/Mike-Hanley-Troop-1-Invitation.png
END:VEVENT
BEGIN:VEVENT
DTSTART;TZID=America/Chicago:20230504T130000
DTEND;TZID=America/Chicago:20230504T160000
DTSTAMP:20260424T052531
CREATED:20230427T161021Z
LAST-MODIFIED:20230427T161021Z
UID:10558-1683205200-1683216000@heloteschamber.com
SUMMARY:Frost Bank Shred-It Event
DESCRIPTION:Dispose of your documents and enjoy a sweet treat on Frost Bank!  \nOn-site document shredding service provided by Shred-It – Limit 10 boxes/bags
URL:https://heloteschamber.com/event/frost-bank-shred-it-event/
LOCATION:Alamo Ranch Financial Center\, 11839 Culebra Road\, San Antonio\, TX\, 78253\, United States
CATEGORIES:Community Events,Member Events
ATTACH;FMTTYPE=image/png:https://heloteschamber.com/wp-content/uploads/2023/04/25674-Statewide-Shred-It-Event-Alamo-Ranch-1080x1080-003.png
END:VEVENT
END:VCALENDAR