BEGIN:VCALENDAR
VERSION:2.0
PRODID:-//Helotes Chamber of Commerce - ECPv6.13.2.1//NONSGML v1.0//EN
CALSCALE:GREGORIAN
METHOD:PUBLISH
X-WR-CALNAME:Helotes Chamber of Commerce
X-ORIGINAL-URL:https://heloteschamber.com
X-WR-CALDESC:Events for Helotes Chamber of Commerce
REFRESH-INTERVAL;VALUE=DURATION:PT1H
X-Robots-Tag:noindex
X-PUBLISHED-TTL:PT1H
BEGIN:VTIMEZONE
TZID:America/Chicago
BEGIN:DAYLIGHT
TZOFFSETFROM:-0600
TZOFFSETTO:-0500
TZNAME:CDT
DTSTART:20260308T080000
END:DAYLIGHT
BEGIN:STANDARD
TZOFFSETFROM:-0500
TZOFFSETTO:-0600
TZNAME:CST
DTSTART:20261101T070000
END:STANDARD
END:VTIMEZONE
BEGIN:VEVENT
DTSTART;TZID=America/Chicago:20260404T100000
DTEND;TZID=America/Chicago:20260404T170000
DTSTAMP:20260422T032147
CREATED:20260309T202442Z
LAST-MODIFIED:20260309T202508Z
UID:20950-1775296800-1775322000@heloteschamber.com
SUMMARY:Esther Benedict Gallery Spring Show
DESCRIPTION:Join us for an unforgettable event!\nEaster and Mother’s Day early shopping\, New Art\, Wine\, Snacks\, Live Music\, Door prizes\, and More!\n 
URL:https://heloteschamber.com/event/esther-benedict-gallery-spring-show-2/
LOCATION:Esther Benedict Gallery\, 160 Diamond J Rd N.\, Pipe Creek\, TX\, 78063\, United States
CATEGORIES:Community Events
ATTACH;FMTTYPE=image/jpeg:https://heloteschamber.com/wp-content/uploads/2026/03/Show-1.jpg
END:VEVENT
BEGIN:VEVENT
DTSTART;TZID=America/Chicago:20260409T170000
DTEND;TZID=America/Chicago:20260409T210000
DTSTAMP:20260422T032147
CREATED:20260220T182110Z
LAST-MODIFIED:20260220T182110Z
UID:20855-1775754000-1775768400@heloteschamber.com
SUMMARY:Taste of Helotes
DESCRIPTION:Taste of Helotes is a walk-around tasting experience showcasing local restaurants\, businesses\, live Texas music\, and community pride. With an expected attendance of 500–1\,000 guests\, this event is designed to become an annual Helotes tradition. \nA portion of event proceeds will benefit Helotes 4-H\, reinforcing our commitment to supporting local youth and giving back to the community. \nWe are currently inviting a limited number of sponsors and partners to align with this event through meaningful brand exposure\, on-site engagement\, and community impact. Sponsorship opportunities range from Title and Presenting Partners to VIP Lounge\, Stage\, and Community Partner levels. \nAs a sponsor\, your organization will receive: \n\nHigh-visibility branding before\, during\, and after the event\nDirect engagement with a highly local\, community-focused audience\nAssociation with a mission-driven event benefiting Helotes 4-H\n\nDownload Sponsorship Packet
URL:https://heloteschamber.com/event/taste-of-helotes/
LOCATION:Pedrotti’s Ranch\, 13715 FM 1560 N\, Helotes\, TX\, 78023\, United States
CATEGORIES:Community Events
ATTACH;FMTTYPE=image/png:https://heloteschamber.com/wp-content/uploads/2026/02/Screenshot-2026-02-20-at-11.49.21-AM.png
END:VEVENT
BEGIN:VEVENT
DTSTART;TZID=America/Chicago:20260410T180000
DTEND;TZID=America/Chicago:20260410T220000
DTSTAMP:20260422T032147
CREATED:20260317T193515Z
LAST-MODIFIED:20260317T200409Z
UID:20986-1775844000-1775858400@heloteschamber.com
SUMMARY:Josabi's Dreams - Fleetwood Mac Tribute
DESCRIPTION:All Ages. Free Parking. Hot Food. Full Bar.\nNo Chairs. No Pets.
URL:https://heloteschamber.com/event/josabis-dreams-fleetwood-mac-tribute/
LOCATION:Josabi’s Acres\, 17200 TX-16 N\, Helotes\, TX\, United States
CATEGORIES:Community Events
ATTACH;FMTTYPE=image/webp:https://heloteschamber.com/wp-content/uploads/2026/03/dreams-fleetwood-mack.webp
ORGANIZER;CN="Josabi's Acres":MAILTO:josabisbar@gmail.com
END:VEVENT
BEGIN:VEVENT
DTSTART;VALUE=DATE:20260416
DTEND;VALUE=DATE:20260417
DTSTAMP:20260422T032147
CREATED:20260420T193206Z
LAST-MODIFIED:20260420T193413Z
UID:21073-1776297600-1776383999@heloteschamber.com
SUMMARY:Sun Auto 2026 Fiesta Medal!
DESCRIPTION:From April 16th to 25th\, your San Antonio Sun Auto locations are in the Fiesta Spirit with custom medals to commemorate the 2026 Festival. \nHere is how to get yours:\n\nFREE with any service totaling $50 or more.\nPurchase a $50 Medal and receive a voucher for a FREE FULL SYNTHETIC OIL CHANGE (up to $90 value). Good through April 30\, 2027\, while supplies last\, no rainchecks.\n\nMore ways to participate!\nSign up for TEXT & SAVE and be notified about a secret medal giveaway\, where the first 200 people will get one FREE.
URL:https://heloteschamber.com/event/sun-auto-2026-fiesta-medal/2026-04-16/
LOCATION:TX
CATEGORIES:Community Events
ATTACH;FMTTYPE=application/pdf:https://heloteschamber.com/wp-content/uploads/2026/04/Sun-Auto-Fiesta-Medal-flyer.pdf
END:VEVENT
BEGIN:VEVENT
DTSTART;VALUE=DATE:20260417
DTEND;VALUE=DATE:20260418
DTSTAMP:20260422T032147
CREATED:20260420T193206Z
LAST-MODIFIED:20260420T193206Z
UID:21076-1776384000-1776470399@heloteschamber.com
SUMMARY:Sun Auto 2026 Fiesta Medal!
DESCRIPTION:From April 16th to 25th\, your San Antonio Sun Auto locations are in the Fiesta Spirit with custom medals to commemorate the 2026 Festival. \nHere is how to get yours:\n\nFREE with any service totaling $50 or more.\nPurchase a $50 Medal and receive a voucher for a FREE FULL SYNTHETIC OIL CHANGE (up to $90 value). Good through April 30\, 2027\, while supplies last\, no rainchecks.\n\nMore ways to participate!\nSign up for TEXT & SAVE and be notified about a secret medal giveaway\, where the first 200 people will get one FREE.
URL:https://heloteschamber.com/event/sun-auto-2026-fiesta-medal/2026-04-17/
LOCATION:TX
CATEGORIES:Community Events
ATTACH;FMTTYPE=application/pdf:https://heloteschamber.com/wp-content/uploads/2026/04/Sun-Auto-Fiesta-Medal-flyer.pdf
END:VEVENT
BEGIN:VEVENT
DTSTART;VALUE=DATE:20260418
DTEND;VALUE=DATE:20260419
DTSTAMP:20260422T032147
CREATED:20260420T193206Z
LAST-MODIFIED:20260420T193206Z
UID:21077-1776470400-1776556799@heloteschamber.com
SUMMARY:Sun Auto 2026 Fiesta Medal!
DESCRIPTION:From April 16th to 25th\, your San Antonio Sun Auto locations are in the Fiesta Spirit with custom medals to commemorate the 2026 Festival. \nHere is how to get yours:\n\nFREE with any service totaling $50 or more.\nPurchase a $50 Medal and receive a voucher for a FREE FULL SYNTHETIC OIL CHANGE (up to $90 value). Good through April 30\, 2027\, while supplies last\, no rainchecks.\n\nMore ways to participate!\nSign up for TEXT & SAVE and be notified about a secret medal giveaway\, where the first 200 people will get one FREE.
URL:https://heloteschamber.com/event/sun-auto-2026-fiesta-medal/2026-04-18/
LOCATION:TX
CATEGORIES:Community Events
ATTACH;FMTTYPE=application/pdf:https://heloteschamber.com/wp-content/uploads/2026/04/Sun-Auto-Fiesta-Medal-flyer.pdf
END:VEVENT
BEGIN:VEVENT
DTSTART;VALUE=DATE:20260419
DTEND;VALUE=DATE:20260420
DTSTAMP:20260422T032147
CREATED:20260420T193206Z
LAST-MODIFIED:20260420T193206Z
UID:21078-1776556800-1776643199@heloteschamber.com
SUMMARY:Sun Auto 2026 Fiesta Medal!
DESCRIPTION:From April 16th to 25th\, your San Antonio Sun Auto locations are in the Fiesta Spirit with custom medals to commemorate the 2026 Festival. \nHere is how to get yours:\n\nFREE with any service totaling $50 or more.\nPurchase a $50 Medal and receive a voucher for a FREE FULL SYNTHETIC OIL CHANGE (up to $90 value). Good through April 30\, 2027\, while supplies last\, no rainchecks.\n\nMore ways to participate!\nSign up for TEXT & SAVE and be notified about a secret medal giveaway\, where the first 200 people will get one FREE.
URL:https://heloteschamber.com/event/sun-auto-2026-fiesta-medal/2026-04-19/
LOCATION:TX
CATEGORIES:Community Events
ATTACH;FMTTYPE=application/pdf:https://heloteschamber.com/wp-content/uploads/2026/04/Sun-Auto-Fiesta-Medal-flyer.pdf
END:VEVENT
BEGIN:VEVENT
DTSTART;VALUE=DATE:20260420
DTEND;VALUE=DATE:20260421
DTSTAMP:20260422T032147
CREATED:20260420T193206Z
LAST-MODIFIED:20260420T193206Z
UID:21079-1776643200-1776729599@heloteschamber.com
SUMMARY:Sun Auto 2026 Fiesta Medal!
DESCRIPTION:From April 16th to 25th\, your San Antonio Sun Auto locations are in the Fiesta Spirit with custom medals to commemorate the 2026 Festival. \nHere is how to get yours:\n\nFREE with any service totaling $50 or more.\nPurchase a $50 Medal and receive a voucher for a FREE FULL SYNTHETIC OIL CHANGE (up to $90 value). Good through April 30\, 2027\, while supplies last\, no rainchecks.\n\nMore ways to participate!\nSign up for TEXT & SAVE and be notified about a secret medal giveaway\, where the first 200 people will get one FREE.
URL:https://heloteschamber.com/event/sun-auto-2026-fiesta-medal/2026-04-20/
LOCATION:TX
CATEGORIES:Community Events
ATTACH;FMTTYPE=application/pdf:https://heloteschamber.com/wp-content/uploads/2026/04/Sun-Auto-Fiesta-Medal-flyer.pdf
END:VEVENT
BEGIN:VEVENT
DTSTART;VALUE=DATE:20260421
DTEND;VALUE=DATE:20260422
DTSTAMP:20260422T032147
CREATED:20260420T193206Z
LAST-MODIFIED:20260420T193206Z
UID:21080-1776729600-1776815999@heloteschamber.com
SUMMARY:Sun Auto 2026 Fiesta Medal!
DESCRIPTION:From April 16th to 25th\, your San Antonio Sun Auto locations are in the Fiesta Spirit with custom medals to commemorate the 2026 Festival. \nHere is how to get yours:\n\nFREE with any service totaling $50 or more.\nPurchase a $50 Medal and receive a voucher for a FREE FULL SYNTHETIC OIL CHANGE (up to $90 value). Good through April 30\, 2027\, while supplies last\, no rainchecks.\n\nMore ways to participate!\nSign up for TEXT & SAVE and be notified about a secret medal giveaway\, where the first 200 people will get one FREE.
URL:https://heloteschamber.com/event/sun-auto-2026-fiesta-medal/2026-04-21/
LOCATION:TX
CATEGORIES:Community Events
ATTACH;FMTTYPE=application/pdf:https://heloteschamber.com/wp-content/uploads/2026/04/Sun-Auto-Fiesta-Medal-flyer.pdf
END:VEVENT
BEGIN:VEVENT
DTSTART;VALUE=DATE:20260422
DTEND;VALUE=DATE:20260423
DTSTAMP:20260422T032147
CREATED:20260420T193206Z
LAST-MODIFIED:20260420T193206Z
UID:21081-1776816000-1776902399@heloteschamber.com
SUMMARY:Sun Auto 2026 Fiesta Medal!
DESCRIPTION:From April 16th to 25th\, your San Antonio Sun Auto locations are in the Fiesta Spirit with custom medals to commemorate the 2026 Festival. \nHere is how to get yours:\n\nFREE with any service totaling $50 or more.\nPurchase a $50 Medal and receive a voucher for a FREE FULL SYNTHETIC OIL CHANGE (up to $90 value). Good through April 30\, 2027\, while supplies last\, no rainchecks.\n\nMore ways to participate!\nSign up for TEXT & SAVE and be notified about a secret medal giveaway\, where the first 200 people will get one FREE.
URL:https://heloteschamber.com/event/sun-auto-2026-fiesta-medal/2026-04-22/
LOCATION:TX
CATEGORIES:Community Events
ATTACH;FMTTYPE=application/pdf:https://heloteschamber.com/wp-content/uploads/2026/04/Sun-Auto-Fiesta-Medal-flyer.pdf
END:VEVENT
BEGIN:VEVENT
DTSTART;VALUE=DATE:20260423
DTEND;VALUE=DATE:20260424
DTSTAMP:20260422T032147
CREATED:20260420T193206Z
LAST-MODIFIED:20260420T193206Z
UID:21082-1776902400-1776988799@heloteschamber.com
SUMMARY:Sun Auto 2026 Fiesta Medal!
DESCRIPTION:From April 16th to 25th\, your San Antonio Sun Auto locations are in the Fiesta Spirit with custom medals to commemorate the 2026 Festival. \nHere is how to get yours:\n\nFREE with any service totaling $50 or more.\nPurchase a $50 Medal and receive a voucher for a FREE FULL SYNTHETIC OIL CHANGE (up to $90 value). Good through April 30\, 2027\, while supplies last\, no rainchecks.\n\nMore ways to participate!\nSign up for TEXT & SAVE and be notified about a secret medal giveaway\, where the first 200 people will get one FREE.
URL:https://heloteschamber.com/event/sun-auto-2026-fiesta-medal/2026-04-23/
LOCATION:TX
CATEGORIES:Community Events
ATTACH;FMTTYPE=application/pdf:https://heloteschamber.com/wp-content/uploads/2026/04/Sun-Auto-Fiesta-Medal-flyer.pdf
END:VEVENT
BEGIN:VEVENT
DTSTART;VALUE=DATE:20260424
DTEND;VALUE=DATE:20260425
DTSTAMP:20260422T032147
CREATED:20260420T193206Z
LAST-MODIFIED:20260420T193206Z
UID:21083-1776988800-1777075199@heloteschamber.com
SUMMARY:Sun Auto 2026 Fiesta Medal!
DESCRIPTION:From April 16th to 25th\, your San Antonio Sun Auto locations are in the Fiesta Spirit with custom medals to commemorate the 2026 Festival. \nHere is how to get yours:\n\nFREE with any service totaling $50 or more.\nPurchase a $50 Medal and receive a voucher for a FREE FULL SYNTHETIC OIL CHANGE (up to $90 value). Good through April 30\, 2027\, while supplies last\, no rainchecks.\n\nMore ways to participate!\nSign up for TEXT & SAVE and be notified about a secret medal giveaway\, where the first 200 people will get one FREE.
URL:https://heloteschamber.com/event/sun-auto-2026-fiesta-medal/2026-04-24/
LOCATION:TX
CATEGORIES:Community Events
ATTACH;FMTTYPE=application/pdf:https://heloteschamber.com/wp-content/uploads/2026/04/Sun-Auto-Fiesta-Medal-flyer.pdf
END:VEVENT
BEGIN:VEVENT
DTSTART;VALUE=DATE:20260425
DTEND;VALUE=DATE:20260426
DTSTAMP:20260422T032147
CREATED:20260420T193206Z
LAST-MODIFIED:20260420T193206Z
UID:21084-1777075200-1777161599@heloteschamber.com
SUMMARY:Sun Auto 2026 Fiesta Medal!
DESCRIPTION:From April 16th to 25th\, your San Antonio Sun Auto locations are in the Fiesta Spirit with custom medals to commemorate the 2026 Festival. \nHere is how to get yours:\n\nFREE with any service totaling $50 or more.\nPurchase a $50 Medal and receive a voucher for a FREE FULL SYNTHETIC OIL CHANGE (up to $90 value). Good through April 30\, 2027\, while supplies last\, no rainchecks.\n\nMore ways to participate!\nSign up for TEXT & SAVE and be notified about a secret medal giveaway\, where the first 200 people will get one FREE.
URL:https://heloteschamber.com/event/sun-auto-2026-fiesta-medal/2026-04-25/
LOCATION:TX
CATEGORIES:Community Events
ATTACH;FMTTYPE=application/pdf:https://heloteschamber.com/wp-content/uploads/2026/04/Sun-Auto-Fiesta-Medal-flyer.pdf
END:VEVENT
BEGIN:VEVENT
DTSTART;TZID=America/Chicago:20260425T090000
DTEND;TZID=America/Chicago:20260425T120000
DTSTAMP:20260422T032147
CREATED:20260206T201106Z
LAST-MODIFIED:20260206T201106Z
UID:20789-1777107600-1777118400@heloteschamber.com
SUMMARY:Young Life Spring Swing
DESCRIPTION:A tournament unlike any other. \n$300 per team of four or $100 per single player\nPrizes for winners:\n\n\nBest Score\n\n\nWorst Score\n\n\nBest Team Outfit\n\n\nLong Drive Putter Throw\n\n\nBring the Family! Fun for all!\nYou could win the coveted gold jacket!\nBenefitting Younglife Helotes\, Texas
URL:https://heloteschamber.com/event/young-life-spring-swing/
LOCATION:Oak Valley Golf Course\, 18632 Bandera Road\, Helotes\, TX\, United States
CATEGORIES:Community Events
ATTACH;FMTTYPE=image/png:https://heloteschamber.com/wp-content/uploads/2026/02/1-292042bd5aebeaa730366e708b8ff865-scaled.png
END:VEVENT
BEGIN:VEVENT
DTSTART;TZID=America/Chicago:20260430T173000
DTEND;TZID=America/Chicago:20260503T200000
DTSTAMP:20260422T032147
CREATED:20260304T160010Z
LAST-MODIFIED:20260304T160434Z
UID:20882-1777570200-1777838400@heloteschamber.com
SUMMARY:Helotes Cornyval and PRCA Rodeo
DESCRIPTION:Helotes Cornyval is the premier event in Helotes. With over 100 vendors\, Great Carnival rides\, and award-winning PRCA Rodeo. Great entertainment. \n\n\nThursday: the SPAZMATICS\n\n\nFriday: WADE BOWEN\n\n\nSaturday: David Lewis\n\n\nSunday:Los Desperadoz\n\n\nLive entertainment all day.\nGo to Cornyval.org for more details.
URL:https://heloteschamber.com/event/helotes-cornyval-and-prca-rodeo/2026-04-30/
LOCATION:Helotes Festival Ground\, 12210 Leslie Rd.\,\, Helotes\, TX\, United States
CATEGORIES:Community Events
ATTACH;FMTTYPE=image/jpeg:https://heloteschamber.com/wp-content/uploads/2026/03/CORNYVAL-pOSTER-2026-2f6451aa06499efea55f77efdb828931-1.jpeg
END:VEVENT
BEGIN:VEVENT
DTSTART;TZID=America/Chicago:20260501T173000
DTEND;TZID=America/Chicago:20260504T200000
DTSTAMP:20260422T032147
CREATED:20260304T160010Z
LAST-MODIFIED:20260304T160010Z
UID:20885-1777656600-1777924800@heloteschamber.com
SUMMARY:Helotes Cornyval and PRCA Rodeo
DESCRIPTION:Helotes Cornyval is the premier event in Helotes. With over 100 vendors\, Great Carnival rides\, and award-winning PRCA Rodeo. Great entertainment. \n\n\nThursday: the SPAZMATICS\n\n\nFriday: WADE BOWEN\n\n\nSaturday: David Lewis\n\n\nSunday:Los Desperadoz\n\n\nLive entertainment all day.\nGo to Cornyval.org for more details.
URL:https://heloteschamber.com/event/helotes-cornyval-and-prca-rodeo/2026-05-01/
LOCATION:Helotes Festival Ground\, 12210 Leslie Rd.\,\, Helotes\, TX\, United States
CATEGORIES:Community Events
ATTACH;FMTTYPE=image/jpeg:https://heloteschamber.com/wp-content/uploads/2026/03/CORNYVAL-pOSTER-2026-2f6451aa06499efea55f77efdb828931-1.jpeg
END:VEVENT
BEGIN:VEVENT
DTSTART;TZID=America/Chicago:20260502T110000
DTEND;TZID=America/Chicago:20260502T200000
DTSTAMP:20260422T032147
CREATED:20260304T160010Z
LAST-MODIFIED:20260304T160010Z
UID:20886-1777719600-1777752000@heloteschamber.com
SUMMARY:Helotes Cornyval and PRCA Rodeo
DESCRIPTION:Helotes Cornyval is the premier event in Helotes. With over 100 vendors\, Great Carnival rides\, and award-winning PRCA Rodeo. Great entertainment. \n\n\nThursday: the SPAZMATICS\n\n\nFriday: WADE BOWEN\n\n\nSaturday: David Lewis\n\n\nSunday:Los Desperadoz\n\n\nLive entertainment all day.\nGo to Cornyval.org for more details.
URL:https://heloteschamber.com/event/helotes-cornyval-and-prca-rodeo/2026-05-02/
LOCATION:Helotes Festival Ground\, 12210 Leslie Rd.\,\, Helotes\, TX\, United States
CATEGORIES:Community Events
ATTACH;FMTTYPE=image/jpeg:https://heloteschamber.com/wp-content/uploads/2026/03/CORNYVAL-pOSTER-2026-2f6451aa06499efea55f77efdb828931-1.jpeg
END:VEVENT
BEGIN:VEVENT
DTSTART;TZID=America/Chicago:20260503T120000
DTEND;TZID=America/Chicago:20260503T200000
DTSTAMP:20260422T032147
CREATED:20260304T160010Z
LAST-MODIFIED:20260304T160010Z
UID:20887-1777809600-1777838400@heloteschamber.com
SUMMARY:Helotes Cornyval and PRCA Rodeo
DESCRIPTION:Helotes Cornyval is the premier event in Helotes. With over 100 vendors\, Great Carnival rides\, and award-winning PRCA Rodeo. Great entertainment. \n\n\nThursday: the SPAZMATICS\n\n\nFriday: WADE BOWEN\n\n\nSaturday: David Lewis\n\n\nSunday:Los Desperadoz\n\n\nLive entertainment all day.\nGo to Cornyval.org for more details.
URL:https://heloteschamber.com/event/helotes-cornyval-and-prca-rodeo/2026-05-03/
LOCATION:Helotes Festival Ground\, 12210 Leslie Rd.\,\, Helotes\, TX\, United States
CATEGORIES:Community Events
ATTACH;FMTTYPE=image/jpeg:https://heloteschamber.com/wp-content/uploads/2026/03/CORNYVAL-pOSTER-2026-2f6451aa06499efea55f77efdb828931-1.jpeg
END:VEVENT
BEGIN:VEVENT
DTSTART;TZID=America/Chicago:20260507T180000
DTEND;TZID=America/Chicago:20260507T203000
DTSTAMP:20260422T032147
CREATED:20260408T202845Z
LAST-MODIFIED:20260408T202845Z
UID:21059-1778176800-1778185800@heloteschamber.com
SUMMARY:Hummingbird Sculpture Workshop
DESCRIPTION:Spots are limited – Reserve yours early!\nWe’ll be hand-painting an adorable Hummingbird Sculpture pre-cast in resin! Each finished with an eyelet hook for hanging. Ready for your unique artistic touch! This joyful workshop might spark a whole bird series…Who knows what we’ll create next!
URL:https://heloteschamber.com/event/hummingbird-sculpture-workshop/
LOCATION:Esther Benedict Gallery\, 160 Diamond J Rd N.\, Pipe Creek\, TX\, 78063\, United States
CATEGORIES:Community Events
ATTACH;FMTTYPE=image/png:https://heloteschamber.com/wp-content/uploads/2026/04/Gemini_Generated_Image_wuizrzwuizrzwuiz.png
END:VEVENT
BEGIN:VEVENT
DTSTART;TZID=America/Chicago:20260509T180000
DTEND;TZID=America/Chicago:20260509T220000
DTSTAMP:20260422T032147
CREATED:20260317T193617Z
LAST-MODIFIED:20260317T200426Z
UID:20985-1778349600-1778364000@heloteschamber.com
SUMMARY:Josabi's Whole Lotta Zep - Led Zeppelin Tribute & Exit Stage Left - Rush Tribute
DESCRIPTION:All Ages. Free Parking. Hot Food. Full Bar.\nNo Chairs. No Pets.
URL:https://heloteschamber.com/event/josabis-whole-lotta-zep-led-zeppelin-tribute-exit-stage-left-rush-tribute/
LOCATION:Josabi’s Acres\, 17200 TX-16 N\, Helotes\, TX\, United States
CATEGORIES:Community Events
ATTACH;FMTTYPE=image/webp:https://heloteschamber.com/wp-content/uploads/2026/03/whole-lotta-zep.webp
ORGANIZER;CN="Josabi's Acres":MAILTO:josabisbar@gmail.com
END:VEVENT
BEGIN:VEVENT
DTSTART;VALUE=DATE:20260510
DTEND;VALUE=DATE:20260518
DTSTAMP:20260422T032147
CREATED:20250708T221755Z
LAST-MODIFIED:20250708T223152Z
UID:20116-1778371200-1779062399@heloteschamber.com
SUMMARY:Alaska Cruise Group with Princess
DESCRIPTION:Ship Name: Star\nSailing Dates: May 10 – 17\, 2026\nItinerary: Seattle\, Ketchikan\, Endicott Arm Saw Scenic\, Juneau\, Skagway\, Victoria\, Seattle\nDeposit: $250 Per person (refundable until 90 days before sailing)\nComplete the registration form at https://www.grandmastertravel.com/form/SYz4dU6g9F to receive the quote! 
URL:https://heloteschamber.com/event/alaska-cruise-group-with-princess/
LOCATION:TX
CATEGORIES:Community Events
ATTACH;FMTTYPE=image/png:https://heloteschamber.com/wp-content/uploads/2025/07/Screen-Shot-2025-07-08-at-5.30.30-PM.png
END:VEVENT
BEGIN:VEVENT
DTSTART;TZID=America/Chicago:20260516T180000
DTEND;TZID=America/Chicago:20260516T220000
DTSTAMP:20260422T032147
CREATED:20260317T193929Z
LAST-MODIFIED:20260317T193929Z
UID:20994-1778954400-1778968800@heloteschamber.com
SUMMARY:Josabi's Bingo Bango\, Laughs & Drafts\, More with Devore\, and a TACO - Part Deaux
DESCRIPTION:All Ages. Free Parking. Hot Food. Full Bar.\nNo Chairs. No Pets.
URL:https://heloteschamber.com/event/josabis-bingo-bango-laughs-drafts-more-with-devore-and-a-taco-part-deaux/
LOCATION:Josabi’s Acres\, 17200 TX-16 N\, Helotes\, TX\, United States
CATEGORIES:Community Events
ATTACH;FMTTYPE=image/jpeg:https://heloteschamber.com/wp-content/uploads/2026/03/2026HeroicConcertSeries.jpeg
ORGANIZER;CN="Josabi's Acres":MAILTO:josabisbar@gmail.com
END:VEVENT
BEGIN:VEVENT
DTSTART;TZID=America/Chicago:20260518T070000
DTEND;TZID=America/Chicago:20260518T200000
DTSTAMP:20260422T032147
CREATED:20260417T220008Z
LAST-MODIFIED:20260417T220008Z
UID:21070-1779087600-1779134400@heloteschamber.com
SUMMARY:Sip For A Cause
DESCRIPTION:Stop by for a cool beverage and help the Helotes Chamber Foundation!\nSay ‘Helotes Chamber Foundation’ at checkout and part of your purchase will benefit HCF.\nYour sip makes a difference — funding scholarships\, teacher grants\, Serve Day projects\, and more!
URL:https://heloteschamber.com/event/sip-for-a-cause-2/
LOCATION:HTeaO\, 12550 Bandera Road\, Helotes\, TX\, 78023\, United States
CATEGORIES:Community Events
ATTACH;FMTTYPE=image/png:https://heloteschamber.com/wp-content/uploads/2026/04/2nd-Sip-for-a-cause-1-ad2ea622f4ae0bb7aa31d5a10333e4c3-1.png
ORGANIZER;CN="Helotes Chamber Foundation":MAILTO:info@hcfcares.org
END:VEVENT
BEGIN:VEVENT
DTSTART;TZID=America/Chicago:20260523T180000
DTEND;TZID=America/Chicago:20260523T220000
DTSTAMP:20260422T032147
CREATED:20260317T191947Z
LAST-MODIFIED:20260317T192033Z
UID:20978-1779559200-1779573600@heloteschamber.com
SUMMARY:Josabi's Back in Black - ACDC Tribute & First Sting - Scorpions Tribute
DESCRIPTION:$25 Advance Ticket / $30 Day of Show\nDoors open at 6 PM\nShow starts 8 PM
URL:https://heloteschamber.com/event/josabis-back-in-black/
LOCATION:Josabi’s Acres\, 17200 TX-16 N\, Helotes\, TX\, United States
CATEGORIES:Community Events
ATTACH;FMTTYPE=image/png:https://heloteschamber.com/wp-content/uploads/2026/03/Josabis-May-23-1024-x-1024-px.png
ORGANIZER;CN="Josabi's Acres":MAILTO:josabisbar@gmail.com
END:VEVENT
BEGIN:VEVENT
DTSTART;TZID=America/Chicago:20260606T180000
DTEND;TZID=America/Chicago:20260606T220000
DTSTAMP:20260422T032147
CREATED:20260317T194050Z
LAST-MODIFIED:20260317T195303Z
UID:20993-1780768800-1780783200@heloteschamber.com
SUMMARY:Josabi's The Rock Lobster Festival
DESCRIPTION:San & Tone Pilots\, South FM\, Nectarous\, Diamond Days\, The Guest\, Front Towards Enemy\, Sound of Curves\, Chris Maddin\, & Paco Estrada.\nAll Ages. Free Parking. Hot Food. Full Bar.\nNo Chairs. No Pets.
URL:https://heloteschamber.com/event/josabis-the-rock-lobster-festival/
LOCATION:Josabi’s Acres\, 17200 TX-16 N\, Helotes\, TX\, United States
CATEGORIES:Community Events
ATTACH;FMTTYPE=image/webp:https://heloteschamber.com/wp-content/uploads/2026/03/rocklobsterjune-6.webp
ORGANIZER;CN="Josabi's Acres":MAILTO:josabisbar@gmail.com
END:VEVENT
BEGIN:VEVENT
DTSTART;TZID=America/Chicago:20260703T180000
DTEND;TZID=America/Chicago:20260703T220000
DTSTAMP:20260422T032147
CREATED:20260317T194241Z
LAST-MODIFIED:20260317T194241Z
UID:20988-1783101600-1783116000@heloteschamber.com
SUMMARY:Josabi's Last Child - Aerosmith Tribute\, & Stage Fright - Def Leppard Tribute
DESCRIPTION:All Ages. Free Parking. Hot Food. Full Bar.\nNo Chairs. No Pets.
URL:https://heloteschamber.com/event/josabis-last-child-aerosmith-tribute-stage-fright-def-leppard-tribute/
LOCATION:Josabi’s Acres\, 17200 TX-16 N\, Helotes\, TX\, United States
CATEGORIES:Community Events
ATTACH;FMTTYPE=image/jpeg:https://heloteschamber.com/wp-content/uploads/2026/03/2026HeroicConcertSeries.jpeg
ORGANIZER;CN="Josabi's Acres":MAILTO:josabisbar@gmail.com
END:VEVENT
BEGIN:VEVENT
DTSTART;TZID=America/Chicago:20260717T180000
DTEND;TZID=America/Chicago:20260717T220000
DTSTAMP:20260422T032147
CREATED:20260317T194629Z
LAST-MODIFIED:20260317T194629Z
UID:20995-1784311200-1784325600@heloteschamber.com
SUMMARY:Josabi's Gunshine\, Surge\, AV8\, and Whikey Ignition
DESCRIPTION:All Ages. Free Parking. Hot Food. Full Bar.\nNo Chairs. No Pets.
URL:https://heloteschamber.com/event/josabis-gunshine-surge-av8-and-whikey-ignition/
LOCATION:Josabi’s Acres\, 17200 TX-16 N\, Helotes\, TX\, United States
CATEGORIES:Community Events
ATTACH;FMTTYPE=image/jpeg:https://heloteschamber.com/wp-content/uploads/2026/03/2026HeroicConcertSeries.jpeg
ORGANIZER;CN="Josabi's Acres":MAILTO:josabisbar@gmail.com
END:VEVENT
BEGIN:VEVENT
DTSTART;TZID=America/Chicago:20260718T180000
DTEND;TZID=America/Chicago:20260718T220000
DTSTAMP:20260422T032147
CREATED:20260317T194833Z
LAST-MODIFIED:20260317T194833Z
UID:21003-1784397600-1784412000@heloteschamber.com
SUMMARY:Josabi's Cemetery Gatez - Pantera Tribute & Three Legged Dog - Alice in Chains Tribute
DESCRIPTION:All Ages. Free Parking. Hot Food. Full Bar.\nNo Chairs. No Pets.
URL:https://heloteschamber.com/event/josabis-cemetery-gatez-pantera-tribute-three-legged-dog-alice-in-chains-tribute/
LOCATION:Josabi’s Acres\, 17200 TX-16 N\, Helotes\, TX\, United States
CATEGORIES:Community Events
ATTACH;FMTTYPE=image/webp:https://heloteschamber.com/wp-content/uploads/2026/03/cemetery-gatez.webp
ORGANIZER;CN="Josabi's Acres":MAILTO:josabisbar@gmail.com
END:VEVENT
BEGIN:VEVENT
DTSTART;TZID=America/Chicago:20260822T180000
DTEND;TZID=America/Chicago:20260822T220000
DTSTAMP:20260422T032147
CREATED:20260317T195046Z
LAST-MODIFIED:20260317T195046Z
UID:21004-1787421600-1787436000@heloteschamber.com
SUMMARY:Josabi's San antonio Transit- Chicago Tribute
DESCRIPTION:All Ages. Free Parking. Hot Food. Full Bar.\nNo Chairs. No Pets.
URL:https://heloteschamber.com/event/josabis-san-antonio-transit-chicago-tribute/
LOCATION:Josabi’s Acres\, 17200 TX-16 N\, Helotes\, TX\, United States
CATEGORIES:Community Events
ATTACH;FMTTYPE=image/webp:https://heloteschamber.com/wp-content/uploads/2026/03/san-antonio-transit.webp
ORGANIZER;CN="Josabi's Acres":MAILTO:josabisbar@gmail.com
END:VEVENT
BEGIN:VEVENT
DTSTART;TZID=America/Chicago:20260912T180000
DTEND;TZID=America/Chicago:20260912T220000
DTSTAMP:20260422T032147
CREATED:20260317T195342Z
LAST-MODIFIED:20260317T195747Z
UID:21020-1789236000-1789250400@heloteschamber.com
SUMMARY:Josabi's Special Show
DESCRIPTION:All Ages. Free Parking. Hot Food. Full Bar.\nNo Chairs. No Pets.
URL:https://heloteschamber.com/event/josabis-special-show/
LOCATION:Josabi’s Acres\, 17200 TX-16 N\, Helotes\, TX\, United States
CATEGORIES:Community Events
ATTACH;FMTTYPE=image/jpeg:https://heloteschamber.com/wp-content/uploads/2026/03/2026HeroicConcertSeries.jpeg
ORGANIZER;CN="Josabi's Acres":MAILTO:josabisbar@gmail.com
END:VEVENT
END:VCALENDAR