BEGIN:VCALENDAR
VERSION:2.0
PRODID:-//Helotes Chamber of Commerce - ECPv6.13.2.1//NONSGML v1.0//EN
CALSCALE:GREGORIAN
METHOD:PUBLISH
X-WR-CALNAME:Helotes Chamber of Commerce
X-ORIGINAL-URL:https://heloteschamber.com
X-WR-CALDESC:Events for Helotes Chamber of Commerce
REFRESH-INTERVAL;VALUE=DURATION:PT1H
X-Robots-Tag:noindex
X-PUBLISHED-TTL:PT1H
BEGIN:VTIMEZONE
TZID:America/Chicago
BEGIN:DAYLIGHT
TZOFFSETFROM:-0600
TZOFFSETTO:-0500
TZNAME:CDT
DTSTART:20250309T080000
END:DAYLIGHT
BEGIN:STANDARD
TZOFFSETFROM:-0500
TZOFFSETTO:-0600
TZNAME:CST
DTSTART:20251102T070000
END:STANDARD
END:VTIMEZONE
BEGIN:VEVENT
DTSTART;VALUE=DATE:20251104
DTEND;VALUE=DATE:20251105
DTSTAMP:20260423T052634
CREATED:20251125T221822Z
LAST-MODIFIED:20251125T221822Z
UID:20594-1762214400-1762300799@heloteschamber.com
SUMMARY:Leon Valley Blue Santa Christmas Toy Drive
DESCRIPTION:Help Bring Joy to Children in Need!\n11/4 Through 12/10. Bin located at Farmers Insurance Agency\, 6100 Bandera Rd.\, Suite 130\, San Antonio\, TX 78238
URL:https://heloteschamber.com/event/leon-valley-blue-santa-christmas-toy-drive/2025-11-04/
LOCATION:Farmers Insurance Agency\, 6100 Bandera Rd.\, Suite 130\, San Antonio\, TX\, 78238\, United States
CATEGORIES:Community Events
ATTACH;FMTTYPE=image/png:https://heloteschamber.com/wp-content/uploads/2025/11/Navy-Illustrated-Christmas-Toy-Drive-Flyer-1.png
END:VEVENT
BEGIN:VEVENT
DTSTART;TZID=America/Chicago:20251104T120000
DTEND;TZID=America/Chicago:20251104T140000
DTSTAMP:20260423T052634
CREATED:20251010T194204Z
LAST-MODIFIED:20251010T194204Z
UID:20476-1762257600-1762264800@heloteschamber.com
SUMMARY:Helotes Society of Helotes General Meeting
DESCRIPTION:Open to the public!!\nGuest Speaker: Cynthia Leal Massey\, Award-winning author & HSH President\n“The History Behind the Fiction in the Historical Crime Mystery\, Well of Deception” \nFrom the era of Prohibition to the decade of the most devastating drought in Texas\, Well of Deception chronicles the 1958 murder of a turkey breeder and the hunt for her killer.  \nRSVP by Sunday\, November 2nd. Visit https://historicalsocietyofhelotes.org/meetings to order lunch or email info@historicalsocietyofhelotes.org if you are not ordering lunch. 
URL:https://heloteschamber.com/event/helotes-society-of-helotes-general-meeting/
LOCATION:Gardens at Old Town Helotes\, 15060 Antonio Drive\, Helotes
CATEGORIES:Community Events
ATTACH;FMTTYPE=image/png:https://heloteschamber.com/wp-content/uploads/2025/10/HSH-Nov-Meeting-Announcement-Chamber.png
END:VEVENT
END:VCALENDAR