BEGIN:VCALENDAR
VERSION:2.0
PRODID:-//Helotes Chamber of Commerce - ECPv6.13.2.1//NONSGML v1.0//EN
CALSCALE:GREGORIAN
METHOD:PUBLISH
X-WR-CALNAME:Helotes Chamber of Commerce
X-ORIGINAL-URL:https://heloteschamber.com
X-WR-CALDESC:Events for Helotes Chamber of Commerce
REFRESH-INTERVAL;VALUE=DURATION:PT1H
X-Robots-Tag:noindex
X-PUBLISHED-TTL:PT1H
BEGIN:VTIMEZONE
TZID:America/Chicago
BEGIN:DAYLIGHT
TZOFFSETFROM:-0600
TZOFFSETTO:-0500
TZNAME:CDT
DTSTART:20250309T080000
END:DAYLIGHT
BEGIN:STANDARD
TZOFFSETFROM:-0500
TZOFFSETTO:-0600
TZNAME:CST
DTSTART:20251102T070000
END:STANDARD
END:VTIMEZONE
BEGIN:VEVENT
DTSTART;VALUE=DATE:20250913
DTEND;VALUE=DATE:20250914
DTSTAMP:20260425T061951
CREATED:20250904T182009Z
LAST-MODIFIED:20250904T182009Z
UID:20234-1757721600-1757807999@heloteschamber.com
SUMMARY:Strength & Conditioning Challenge
DESCRIPTION:Join our $79 Challenge!\n\nSee and feel results in 28 days\nBuild total-body strength with unlimited Camps\nBreak personal records\nComplimentary Childwatch\, our version of free childcare\nUnlimited Focus Meetings & nutritional support\nExpert personal training in a group setting
URL:https://heloteschamber.com/event/strength-conditioning-challenge/2025-09-13/
LOCATION:Burn Boot Camp\, 12540 Bandera Rd\, Helotes\, TX\, 78023\, United States
CATEGORIES:Community Events
ATTACH;FMTTYPE=image/jpeg:https://heloteschamber.com/wp-content/uploads/2025/09/Fall-Challenge-image.jpg
END:VEVENT
BEGIN:VEVENT
DTSTART;TZID=America/Chicago:20250913T100000
DTEND;TZID=America/Chicago:20250913T140000
DTSTAMP:20260425T061951
CREATED:20250814T214711Z
LAST-MODIFIED:20250814T214711Z
UID:20180-1757757600-1757772000@heloteschamber.com
SUMMARY:Donate Blood! Catch a Flick and More
DESCRIPTION:Get two FREE Santikos movie tickets\, a 30-minute game card\, $15 off bowling\, and $5 off large popcorn and drink when you donate. \nDate: Saturday\, September 13th\, 2025\nTime: 10 AM – 2 PM\nLocation: Navy Federal Credit Union – Helotes\, 12510 Bandera Rd.\, Helotes\, TX 78023
URL:https://heloteschamber.com/event/donate-blood-catch-a-flick-and-more/
LOCATION:Navy Federal Credit Union\, 12510 Bandera Rd.\, Ste 101\, Helotes\, TX\, 78023\, United States
CATEGORIES:Community Events
ATTACH;FMTTYPE=image/jpeg:https://heloteschamber.com/wp-content/uploads/2025/08/Sept-Blood-Drive-NFCU-adccb11f13554d80e424d3b0310c2a21.jpg
END:VEVENT
END:VCALENDAR